Workbook

Sheet РАСХОДЫ 
A2: ОТЧЕТ
A3: О РАСХОДАХ И ЧИСЛЕННОСТИ РАБОТНИКОВ ОРГАНОВ МЕСТНОГО САМОУПРАВЛЕНИЯ, ИЗБИРАТЕЛЬНЫХ КОМИССИЙ МУНИЦИПАЛЬНЫХ ОБРАЗОВАНИЙ | J3: КОДЫ
I4: Форма 14 МО по ОКУД | J4: 0503075
B5: на 1 | C5: ОКТЯБРЯ | D5: 2015 г,. | I5: Тип отчета
I6: Дата
A7: Наименование органа местного самоуправления, территориального органа,избирательной комиссии муниципального образования | C7: ПОЧЕПСКИЙ МУНИЦИПАЛЬНЫЙ РАЙОН | I7: по ОКПО
A8: Наименование бюджета | I8: Глава по БК
A9: Периодичность: полугодовая, 9 месяцев, годовая | I9: по ОКТМО
A10: Единица измерения: расходы - тыс. руб.
A11: должности - единица | I11: по ОКЕИ | J11: 384
A12: численность - человек | I12: по ОКЕИ | J12: 642
I13: по ОКЕИ | J13: 792
A15: 1. Сведения о расходах на содержание органов местного самоуправления, избирательных комиссий муниципальных образований
A16: Наименование показателя | B16: Код строки | C16: В С Е Г О | E16: в том числе по кодам разделов, подразделов расходов бюджетов по бюджетной классификации Российской Федерации
E17: 0100 0000000 000 0002 ОБЩЕГОСУДАРСТВЕННЫЕ ВОПРОСЫ | G17: 0102 000000 000 00435 Глава муниципального образования | I17: 0103 0000000 000 0436 Функционирование законодательных (представительных) органов государственной власти и представительных органов муниципальных образований
C18: утверждено (предусмотрено) на год | D18: фактически начислено за отчетный период | E18: утверждено (предусмотрено) на год | F18: фактически начислено за отчетный период | G18: утверждено (предусмотрено) на год | H18: фактически начислено за отчетный период | I18: утверждено (предусмотрено) на год | J18: фактически начислено за отчетный период
A19: 1 | B19: 2 | C19: 3 | D19: 4 | E19: 5 | F19: 6 | G19: 7 | H19: 8 | I19: 9 | J19: 10
A20: Заработная плата лиц, замещающих муниципальные должности, всего (сумма строк 011 + 012) | B20: 010 | C20: Х | D20: =F20+'РАСХОДЫ 4'!H7+'РАСХОДЫ 4'!J7+'РАСХОДЫ 5'!D7+'РАСХОДЫ 5'!F7+'РАСХОДЫ 5'!H7+'РАСХОДЫ 5'!J7+'РАСХОДЫ 6'!D7 -> 4519 | E20: Х | F20: =H20+J20+'РАСХОДЫ 1'!J7+'РАСХОДЫ 2'!H7+'РАСХОДЫ 4'!F7 -> 4519 | G20: Х | H20: 4519 | I20: Х | J20: ='РАСХОДЫ 1'!D7+'РАСХОДЫ 1'!F7+'РАСХОДЫ 1'!H7 -> 0
A21: в том числе:
A22: денежное вознаграждение (денежное содержание) | B22: 011 | C22: Х | E22: Х | G22: Х | I22: Х
A23: другие выплаты, предусмотренные действующим законодательством | B23: 012 | C23: Х | E23: Х | G23: Х | I23: Х
A24: Заработная плата лиц, замещающих должности муниципальной службы, всего (сумма строк 021 + 022 + 024) | B24: 020 | C24: Х | D24: =F24+'РАСХОДЫ 4'!H11+'РАСХОДЫ 4'!J11+'РАСХОДЫ 5'!D11+'РАСХОДЫ 5'!F11+'РАСХОДЫ 5'!H11+'РАСХОДЫ 5'!J11+'РАСХОДЫ 6'!D11 -> 15444 | E24: Х | F24: =H24+J24+'РАСХОДЫ 1'!J11+'РАСХОДЫ 2'!H11+'РАСХОДЫ 4'!F11 -> 13329 | G24: Х | I24: Х | J24: ='РАСХОДЫ 1'!D11+'РАСХОДЫ 1'!F11+'РАСХОДЫ 1'!H11 -> 251
A25: в том числе:
A26: должностной оклад | B26: 021 | C26: Х | E26: Х | G26: Х | I26: Х
A27: дополнительные выплаты | B27: 022 | C27: Х | E27: Х | G27: Х | I27: Х
A28: из них: ежемесячное денежное поощрение | B28: 023 | C28: Х | E28: Х | G28: Х | I28: Х
A29: другие выплаты, предусмотренные действующим законодательством | B29: 024 | C29: Х | E29: Х | G29: Х | I29: Х
A30: Заработная плата лиц, замещающих должности, не являющиеся должностями муниципальной службы | B30: 030 | C30: Х | D30: =F30+'РАСХОДЫ 4'!H17+'РАСХОДЫ 4'!J17+'РАСХОДЫ 5'!D17+'РАСХОДЫ 5'!F17+'РАСХОДЫ 5'!H17+'РАСХОДЫ 5'!J17+'РАСХОДЫ 6'!D17 -> 7934 | E30: Х | F30: =H30+J30+'РАСХОДЫ 1'!J17+'РАСХОДЫ 2'!H17+'РАСХОДЫ 4'!F17 -> 6614 | G30: Х | I30: Х | J30: ='РАСХОДЫ 1'!D17+'РАСХОДЫ 1'!F17+'РАСХОДЫ 1'!H17 -> 76
A31: Заработная плата работников органа местного самоуправления, избирательной комиссии муниципального образования, переведенных на новые системы оплаты труда 1 | B31: 040 | C31: Х | D31: =F31+'РАСХОДЫ 4'!H18+'РАСХОДЫ 4'!J18+'РАСХОДЫ 5'!D18+'РАСХОДЫ 5'!F18+'РАСХОДЫ 5'!H18+'РАСХОДЫ 5'!J18+'РАСХОДЫ 6'!D18 -> 3868 | E31: Х | F31: =H31+J31+'РАСХОДЫ 1'!J18+'РАСХОДЫ 2'!H18+'РАСХОДЫ 4'!F18 -> 3868 | G31: Х | I31: Х | J31: ='РАСХОДЫ 1'!D18+'РАСХОДЫ 1'!F18+'РАСХОДЫ 1'!H18 -> 173
A32: Итого расходов на заработную плату работников органа местного самоуправления, избирательной комиссии муниципального образования (сумма строк 010 + 020 + 030 + 040) | B32: 050 | C32: =E32+'РАСХОДЫ 4'!G19+'РАСХОДЫ 4'!I19+'РАСХОДЫ 5'!C19+'РАСХОДЫ 5'!E19+'РАСХОДЫ 5'!G19+'РАСХОДЫ 5'!I19+'РАСХОДЫ 6'!C19 -> 44022 | D32: =F32+'РАСХОДЫ 4'!H19+'РАСХОДЫ 4'!J19+'РАСХОДЫ 5'!D19+'РАСХОДЫ 5'!F19+'РАСХОДЫ 5'!H19+'РАСХОДЫ 5'!J19+'РАСХОДЫ 6'!D19 -> 31765 | E32: =G32+I32+'РАСХОДЫ 1'!I19+'РАСХОДЫ 2'!G19+'РАСХОДЫ 4'!E19 -> 39047 | F32: =H32+J32+'РАСХОДЫ 1'!J19+'РАСХОДЫ 2'!H19+'РАСХОДЫ 4'!F19 -> 28330 | G32: 5980 | H32: =H20+H24+H30+H31 -> 4519 | I32: ='РАСХОДЫ 1'!C19+'РАСХОДЫ 1'!E19+'РАСХОДЫ 1'!G19 -> 676 | J32: ='РАСХОДЫ 1'!D19+'РАСХОДЫ 1'!F19+'РАСХОДЫ 1'!H19 -> 500
A33: Прочие выплаты работникам органа местного самоуправления, избирательной комиссии муниципального образования, всего | B33: 060 | C33: =E33+'РАСХОДЫ 4'!G20+'РАСХОДЫ 4'!I20+'РАСХОДЫ 5'!C20+'РАСХОДЫ 5'!E20+'РАСХОДЫ 5'!G20+'РАСХОДЫ 5'!I20+'РАСХОДЫ 6'!C20 -> 126 | D33: =F33+'РАСХОДЫ 4'!H20+'РАСХОДЫ 4'!J20+'РАСХОДЫ 5'!D20+'РАСХОДЫ 5'!F20+'РАСХОДЫ 5'!H20+'РАСХОДЫ 5'!J20+'РАСХОДЫ 6'!D20 -> 101 | E33: =G33+I33+'РАСХОДЫ 1'!I20+'РАСХОДЫ 2'!G20+'РАСХОДЫ 4'!E20 -> 124 | F33: =H33+J33+'РАСХОДЫ 1'!J20+'РАСХОДЫ 2'!H20+'РАСХОДЫ 4'!F20 -> 101 | G33: 48 | H33: 48 | I33: ='РАСХОДЫ 1'!C20+'РАСХОДЫ 1'!E20+'РАСХОДЫ 1'!G20 -> 42 | J33: ='РАСХОДЫ 1'!D20+'РАСХОДЫ 1'!F20+'РАСХОДЫ 1'!H20 -> 20
A34: из них:
A35: компенсации работникам за использование личных легковых автомобилей для служебных целей | B35: 061 | C35: Х | E35: Х | G35: Х | I35: Х
A36: суточные при служебных командировках, всего (сумма строк 063 + 064) | B36: 062 | C36: Х | E36: Х | G36: Х | I36: Х
A37: в том числе:
A38: на территории Российской Федерации | B38: 063 | C38: Х | E38: Х | G38: Х | I38: Х
A39: на территории иностранных государств | B39: 064 | C39: Х | E39: Х | G39: Х | I39: Х
A40: Другие расходы на содержание органа местного самоуправления, избирательной комиссии муниципального образования, всего | B40: 070 | C40: =E40+'РАСХОДЫ 4'!G27+'РАСХОДЫ 4'!I27+'РАСХОДЫ 5'!C27+'РАСХОДЫ 5'!E27+'РАСХОДЫ 5'!G27+'РАСХОДЫ 5'!I27+'РАСХОДЫ 6'!C27 -> 26156 | D40: =F40+'РАСХОДЫ 4'!H27+'РАСХОДЫ 4'!J27+'РАСХОДЫ 5'!D27+'РАСХОДЫ 5'!F27+'РАСХОДЫ 5'!H27+'РАСХОДЫ 5'!J27+'РАСХОДЫ 6'!D27 -> 17565 | E40: =G40+I40+'РАСХОДЫ 1'!I27+'РАСХОДЫ 2'!G27+'РАСХОДЫ 4'!E27 -> 24141 | F40: =H40+J40+'РАСХОДЫ 1'!J27+'РАСХОДЫ 2'!H27+'РАСХОДЫ 4'!F27 -> 16311 | G40: 1849 | H40: 1363 | I40: ='РАСХОДЫ 1'!C27+'РАСХОДЫ 1'!E27+'РАСХОДЫ 1'!G27 -> 764 | J40: ='РАСХОДЫ 1'!D27+'РАСХОДЫ 1'!F27+'РАСХОДЫ 1'!H27 -> 540
A41: из них:
A42: на служебные командировки (оплата проезда и проживания), всего (сумма строк 072 + 073): | B42: 071 | C42: Х | E42: Х | G42: Х | I42: Х
...

Sheet ЧИСЛЕННОСТЬ
M1: Форма 14 МО, с. 2
A3: 2. Сведения о должностях и численности работников органов местного самоуправления, избирательных комиссий муниципальных образований
A4: Наименование показателя | B4: Код строки | C4: В С Е Г О | F4: в том числе по кодам разделов, подразделов расходов бюджетов по бюджетной классификации Российской Федерации 1
F5: 0100 0000000 000 0002 ОБЩЕГОСУДАРСТВЕННЫЕ ВОПРОСЫ | I5: 0102 000000 000 00435 Глава муниципального образования | L5: 0103 0000000 000 0436 Функционирование законодательных (представительных) органов государственной власти и представительных органов муниципальных образований
C6: утверждено должностей в штатном расписании на конец отчетного периода | D6: фактически замещено должностей на конец отчетного периода | E6: среднесписочная численность за отчетный период | F6: утверждено должностей в штатном расписании на конец отчетного периода | G6: фактически замещено должностей на конец отчетного периода | H6: среднесписочная численность за отчетный период | I6: утверждено должностей в штатном расписании на конец отчетного периода | J6: фактически замещено должностей на конец отчетного периода | K6: среднесписочная численность за отчетный период | L6: утверждено должностей в штатном расписании на конец отчетного периода | M6: фактически замещено должностей на конец отчетного периода | N6: среднесписочная численность за отчетный период
A7: 1 | B7: 2 | C7: 3 | D7: 4 | E7: 5 | F7: 6 | G7: 7 | H7: 8 | I7: 9 | J7: 10 | K7: 11 | L7: 12 | M7: 13 | N7: 14
A8: Муниципальные должности | B8: 200 | C8: =F8+'Численность 4'!I8+'Численность 4'!L8+'Численность 5'!C8+'Численность 5'!F8+'Численность 5'!I8+'Численность 5'!L8+'Численность 6'!C8 -> 18 | D8: =G8+'Численность 4'!J8+'Численность 4'!M8+'Численность 5'!D8+'Численность 5'!G8+'Численность 5'!J8+'Численность 5'!M8+'Численность 6'!D8 -> 18 | E8: =H8+'Численность 4'!K8+'Численность 4'!N8+'Численность 5'!E8+'Численность 5'!H8+'Численность 5'!K8+'Численность 5'!N8+'Численность 6'!E8 -> 18 | F8: =I8+L8+'ЧИСЛЕННОСТЬ 1'!L8+'Численность 2'!I8+'Численность 4'!F8 -> 18 | G8: =J8+M8+'ЧИСЛЕННОСТЬ 1'!M8+'Численность 2'!J8+'Численность 4'!G8 -> 18 | H8: =K8+N8+'ЧИСЛЕННОСТЬ 1'!N8+'Численность 2'!K8+'Численность 4'!H8 -> 18 | I8: 18 | J8: 18 | K8: 18 | L8: ='ЧИСЛЕННОСТЬ 1'!C8+'ЧИСЛЕННОСТЬ 1'!F8+'ЧИСЛЕННОСТЬ 1'!I8 -> 0 | M8: ='ЧИСЛЕННОСТЬ 1'!D8+'ЧИСЛЕННОСТЬ 1'!G8+'ЧИСЛЕННОСТЬ 1'!J8 -> 0 | N8: ='ЧИСЛЕННОСТЬ 1'!E8+'ЧИСЛЕННОСТЬ 1'!H8+'ЧИСЛЕННОСТЬ 1'!K8 -> 0
A9: Должности муниципальной службы, всего (сумма строк 220 + 230 + 240 + 250 + 260) | B9: 210 | C9: =F9+'Численность 4'!I9+'Численность 4'!L9+'Численность 5'!C9+'Численность 5'!F9+'Численность 5'!I9+'Численность 5'!L9+'Численность 6'!C9 -> 92.75 | D9: =G9+'Численность 4'!J9+'Численность 4'!M9+'Численность 5'!D9+'Численность 5'!G9+'Численность 5'!J9+'Численность 5'!M9+'Численность 6'!D9 -> 91.75 | E9: =H9+'Численность 4'!K9+'Численность 4'!N9+'Численность 5'!E9+'Численность 5'!H9+'Численность 5'!K9+'Численность 5'!N9+'Численность 6'!E9 -> 89 | F9: =I9+L9+'ЧИСЛЕННОСТЬ 1'!L9+'Численность 2'!I9+'Численность 4'!F9 -> 81.75 | G9: =J9+M9+'ЧИСЛЕННОСТЬ 1'!M9+'Численность 2'!J9+'Численность 4'!G9 -> 80.75 | H9: =K9+N9+'ЧИСЛЕННОСТЬ 1'!N9+'Численность 2'!K9+'Численность 4'!H9 -> 78 | L9: ='ЧИСЛЕННОСТЬ 1'!C9+'ЧИСЛЕННОСТЬ 1'!F9+'ЧИСЛЕННОСТЬ 1'!I9 -> 1 | M9: ='ЧИСЛЕННОСТЬ 1'!D9+'ЧИСЛЕННОСТЬ 1'!G9+'ЧИСЛЕННОСТЬ 1'!J9 -> 1 | N9: ='ЧИСЛЕННОСТЬ 1'!E9+'ЧИСЛЕННОСТЬ 1'!H9+'ЧИСЛЕННОСТЬ 1'!K9 -> 1
A10: в том числе по группам должностей: | F10: =I10+L10+'ЧИСЛЕННОСТЬ 1'!L10+'Численность 2'!I10+'Численность 4'!F10 -> 0 | G10: =J10+M10+'ЧИСЛЕННОСТЬ 1'!M10+'Численность 2'!J10+'Численность 4'!G10 -> 0 | H10: =K10+N10+'ЧИСЛЕННОСТЬ 1'!N10+'Численность 2'!K10+'Численность 4'!H10 -> 0 | L10: ='ЧИСЛЕННОСТЬ 1'!C10+'ЧИСЛЕННОСТЬ 1'!F10+'ЧИСЛЕННОСТЬ 1'!I10 -> 0 | M10: ='ЧИСЛЕННОСТЬ 1'!D10+'ЧИСЛЕННОСТЬ 1'!G10+'ЧИСЛЕННОСТЬ 1'!J10 -> 0 | N10: ='ЧИСЛЕННОСТЬ 1'!E10+'ЧИСЛЕННОСТЬ 1'!H10+'ЧИСЛЕННОСТЬ 1'!K10 -> 0
A11: высшие | B11: 220
A12: главные | B12: 230
A13: ведущие | B13: 240
A14: старшие | B14: 250
A15: младшие | B15: 260
A16: Должности, не являющиеся должностями муниципальной службы | B16: 270 | C16: =F16+'Численность 4'!I16+'Численность 4'!L16+'Численность 5'!C16+'Численность 5'!F16+'Численность 5'!I16+'Численность 5'!L16+'Численность 6'!C16 -> 55.2 | D16: =G16+'Численность 4'!J16+'Численность 4'!M16+'Численность 5'!D16+'Численность 5'!G16+'Численность 5'!J16+'Численность 5'!M16+'Численность 6'!D16 -> 53.2 | E16: =H16+'Численность 4'!K16+'Численность 4'!N16+'Численность 5'!E16+'Численность 5'!H16+'Численность 5'!K16+'Численность 5'!N16+'Численность 6'!E16 -> 49 | F16: =I16+L16+'ЧИСЛЕННОСТЬ 1'!L16+'Численность 2'!I16+'Численность 4'!F16 -> 40.7 | G16: =J16+M16+'ЧИСЛЕННОСТЬ 1'!M16+'Численность 2'!J16+'Численность 4'!G16 -> 38.7 | H16: =K16+N16+'ЧИСЛЕННОСТЬ 1'!N16+'Численность 2'!K16+'Численность 4'!H16 -> 39 | L16: ='ЧИСЛЕННОСТЬ 1'!C16+'ЧИСЛЕННОСТЬ 1'!F16+'ЧИСЛЕННОСТЬ 1'!I16 -> 0.5 | M16: ='ЧИСЛЕННОСТЬ 1'!D16+'ЧИСЛЕННОСТЬ 1'!G16+'ЧИСЛЕННОСТЬ 1'!J16 -> 0.5 | N16: ='ЧИСЛЕННОСТЬ 1'!E16+'ЧИСЛЕННОСТЬ 1'!H16+'ЧИСЛЕННОСТЬ 1'!K16 -> 1
A17: Должности работников, переведенных на новые системы оплаты труда 2 | B17: 280 | C17: =F17+'Численность 4'!I17+'Численность 4'!L17+'Численность 5'!C17+'Численность 5'!F17+'Численность 5'!I17+'Численность 5'!L17+'Численность 6'!C17 -> 35.72 | D17: =G17+'Численность 4'!J17+'Численность 4'!M17+'Численность 5'!D17+'Численность 5'!G17+'Численность 5'!J17+'Численность 5'!M17+'Численность 6'!D17 -> 35.72 | E17: =H17+'Численность 4'!K17+'Численность 4'!N17+'Численность 5'!E17+'Численность 5'!H17+'Численность 5'!K17+'Численность 5'!N17+'Численность 6'!E17 -> 37 | F17: =I17+L17+'ЧИСЛЕННОСТЬ 1'!L17+'Численность 2'!I17+'Численность 4'!F17 -> 35.72 | G17: =J17+M17+'ЧИСЛЕННОСТЬ 1'!M17+'Численность 2'!J17+'Численность 4'!G17 -> 35.72 | H17: =K17+N17+'ЧИСЛЕННОСТЬ 1'!N17+'Численность 2'!K17+'Численность 4'!H17 -> 37 | L17: ='ЧИСЛЕННОСТЬ 1'!C17+'ЧИСЛЕННОСТЬ 1'!F17+'ЧИСЛЕННОСТЬ 1'!I17 -> 2 | M17: ='ЧИСЛЕННОСТЬ 1'!D17+'ЧИСЛЕННОСТЬ 1'!G17+'ЧИСЛЕННОСТЬ 1'!J17 -> 2 | N17: ='ЧИСЛЕННОСТЬ 1'!E17+'ЧИСЛЕННОСТЬ 1'!H17+'ЧИСЛЕННОСТЬ 1'!K17 -> 1
A18: Всего должностей работников органа местного самоуправления, избирательной комиссии муниципального образования (сумма строк 200 + 210 + 270 + 280) | B18: 290 | C18: =F18+'Численность 4'!I18+'Численность 4'!L18+'Численность 5'!C18+'Численность 5'!F18+'Численность 5'!I18+'Численность 5'!L18+'Численность 6'!C18 -> 201.67 | D18: =G18+'Численность 4'!J18+'Численность 4'!M18+'Численность 5'!D18+'Численность 5'!G18+'Численность 5'!J18+'Численность 5'!M18+'Численность 6'!D18 -> 198.67 | E18: =H18+'Численность 4'!K18+'Численность 4'!N18+'Численность 5'!E18+'Численность 5'!H18+'Численность 5'!K18+'Численность 5'!N18+'Численность 6'!E18 -> 193 | F18: =I18+L18+'ЧИСЛЕННОСТЬ 1'!L18+'Численность 2'!I18+'Численность 4'!F18 -> 176.17 | G18: =J18+M18+'ЧИСЛЕННОСТЬ 1'!M18+'Численность 2'!J18+'Численность 4'!G18 -> 173.17 | H18: =K18+N18+'ЧИСЛЕННОСТЬ 1'!N18+'Численность 2'!K18+'Численность 4'!H18 -> 172 | I18: =I8+I9+I16+I17 -> 18 | J18: =J8+J9+J16+J17 -> 18 | K18: =K8+K9+K16+K17 -> 18 | L18: ='ЧИСЛЕННОСТЬ 1'!C18+'ЧИСЛЕННОСТЬ 1'!F18+'ЧИСЛЕННОСТЬ 1'!I18 -> 3.5 | M18: ='ЧИСЛЕННОСТЬ 1'!D18+'ЧИСЛЕННОСТЬ 1'!G18+'ЧИСЛЕННОСТЬ 1'!J18 -> 3.5 | N18: ='ЧИСЛЕННОСТЬ 1'!E18+'ЧИСЛЕННОСТЬ 1'!H18+'ЧИСЛЕННОСТЬ 1'!K18 -> 3
A20: 1 Коды разделов, подразделов расходов бюджетов по бюджетной классификации Российской Федерации должны соответствовать кодам, приведенным в разделе 1. Сведения о расходах на содержание органов местного самоуправления, избирательных комиссий муниципальных образований.
A21: 2 Персонал по охране и обслуживанию зданий; водители и другие работники, обслуживающие служебные легковые автомобили органа местного самоуправления, избирательной комиссии муниципального образования.

Sheet Справка
J1: Форма 14 МО, с. 3
A3: 3. Справка о количестве органов местного самоуправления, избирательных комиссий муниципальных образований и фактически начисленной заработной плате муниципальных служащих
A4: Наименование показателя | B4: Код строки | C4: В С Е Г О | E4: в том числе по кодам разделов, подразделов расходов бюджетов по бюджетной классификации Российской Федерации 1
E5: 0100 0000000 000 0002 ОБЩЕГОСУДАРСТВЕННЫЕ ВОПРОСЫ | G5: 0102 000000 000 00435 Глава муниципального образования | I5: 0103 0000000 000 0436 Функционирование законодательных (представительных) органов государственной власти и представительных органов муниципальных образований
A6: 1 | B6: 2 | C6: 3 | E6: 4 | G6: 5 | I6: 6
A7: Количество органов местного самоуправления, избирательных комиссий муниципальных образований | B7: 300 | C7: =E7+'СПРАВКА 4'!G7+'СПРАВКА 4'!I7+'СПРАВКА 5'!C7+'СПРАВКА 5'!E7+'СПРАВКА 5'!G7+'СПРАВКА 5'!I7+'СПРАВКА 6'!C7 -> 24 | E7: =G7+I7+'СПРАВКА 1'!I7+'СПРАВКА 2'!G7+'СПРАВКА 4'!E7 -> 22 | I7: ='СПРАВКА 1'!C7+'СПРАВКА 1'!E7+'СПРАВКА 1'!G7 -> 1
A8: Заработная плата муниципальных служащих (стр. 020), всего (сумма строк 410 + 420 + 430 + 440 + 450) | B8: 400
A9: в том числе по группам должностей:
A10: высшие | B10: 410
A11: главные | B11: 420
A12: ведущие | B12: 430
A13: старшие | B13: 440
A14: младшие | B14: 450
A16: 4. Сведения о количестве служебных легковых автомобилей и расходах на их содержание
A17: Наименование показателя | B17: Код строки | C17: В С Е Г О | E17: в том числе по кодам разделов, подразделов расходов бюджетов по бюджетной классификации Российской Федерации 1
E18: 0100 0000000 000 0002 ОБЩЕГОСУДАРСТВЕННЫЕ ВОПРОСЫ | G18: 0102 000000 000 00435 Глава муниципального образования | I18: 0103 0000000 000 0436 Функционирование законодательных (представительных) органов государственной власти и представительных органов муниципальных образований
C19: на отчетную дату | D19: в среднем за год | E19: на отчетную дату | F19: в среднем за год | G19: на отчетную дату | H19: в среднем за год | I19: на отчетную дату | J19: в среднем за год
A20: 1 | B20: 2 | C20: 3 | D20: 4 | E20: 5 | F20: 6 | G20: 7 | H20: 8 | I20: 9 | J20: 10
A21: Служебные легковые автомобили, состоящие на балансе органа местного самоуправления, избирательной комиссии муниципального образования, шт. | B21: 460
A22: Служебные легковые автомобили, арендованные органом местного самоуправления, избирательной комиссией муниципального образования у других организаций, шт. | B22: 470
A23: Служебные легковые автомобили, предоставляемые муниципальными учреждениями органу местного самоуправления, избирательной комиссии муниципального образования на правах безвозмездного пользования, шт. | B23: 480
A24: СПРАВОЧНО: Расходы муниципальных учреждений на транспортное обслуживание органа местного самоуправления, избирательной комиссии муниципального образования, тыс. руб. | B24: 481
A25: Служебные легковые автомобили, предоставляемые подведомственными учреждениями органу местного самоуправления, избирательной комиссии муниципального образования, шт. | B25: 490
A26: СПРАВОЧНО: Расходы подведомственных учреждений на транспортное обслуживание органа местного самоуправления, избирательной комиссии муниципального образования, тыс. руб. | B26: 491
A28: 1 Коды разделов, подразделов расходов бюджетов по бюджетной классификации Российской Федерации должны соответствовать кодам, приведенным в разделе 1. Сведения о расходах на содержание органов местного самоуправления, избирательных комиссий муниципальных образований.

Sheet РАСХОДЫ 1
J1: Форма 14 МО, с.4
A2: 1. Сведения о расходах на содержание органов местного самоуправления, избирательных комиссий муниципальных образований
A3: Наименование показателя | B3: Код строки | C3: в том числе по кодам разделов, подразделов расходов бюджетов по бюджетной классификации Российской Федерации
C4: 0103 0000000 000 00443 Центральный аппарат | E4: 0103 0000000 000 00446 Председатель представительного органа муниципального образования | G4: 0103 0000000 000 00447 Депутаты представительного органа муниципального образования | I4: 0104 0000000 000 00028 Функционирование Правительства Российской Федерации, высших исполнительных органов государственной власти субъектов Российской Федерации, местных администраций
C5: утверждено (предусмотрено) на год | D5: фактически начислено за отчетный период | E5: утверждено (предусмотрено) на год | F5: фактически начислено за отчетный период | G5: утверждено (предусмотрено) на год | H5: фактически начислено за отчетный период | I5: утверждено (предусмотрено) на год | J5: фактически начислено за отчетный период
A6: 1 | B6: 2 | C6: 3 | D6: 4 | E6: 5 | F6: 6 | G6: 7 | H6: 8 | I6: 9 | J6: 10
A7: Заработная плата лиц, замещающих муниципальные должности, всего (сумма строк 011 + 012) | B7: 010 | C7: Х | E7: Х | G7: Х | I7: Х | J7: ='РАСХОДЫ 2'!D7+'РАСХОДЫ 2'!F7 -> 0
A8: в том числе:
A9: денежное вознаграждение (денежное содержание) | B9: 011 | C9: Х | E9: Х | G9: Х | I9: Х
A10: другие выплаты, предусмотренные действующим законодательством | B10: 012 | C10: Х | E10: Х | G10: Х | I10: Х
A11: Заработная плата лиц, замещающих должности муниципальной службы, всего (сумма строк 021 + 022 + 024) | B11: 020 | C11: Х | D11: 251 | E11: Х | G11: Х | I11: Х | J11: ='РАСХОДЫ 2'!D11+'РАСХОДЫ 2'!F11 -> 10191
A12: в том числе:
A13: должностной оклад | B13: 021 | C13: Х | E13: Х | G13: Х | I13: Х
A14: дополнительные выплаты | B14: 022 | C14: Х | E14: Х | G14: Х | I14: Х
A15: из них: ежемесячное денежное поощрение | B15: 023 | C15: Х | E15: Х | G15: Х | I15: Х
A16: другие выплаты, предусмотренные действующим законодательством | B16: 024 | C16: Х | E16: Х | G16: Х | I16: Х
A17: Заработная плата лиц, замещающих должности, не являющиеся должностями муниципальной службы | B17: 030 | C17: Х | D17: 76 | E17: Х | G17: Х | I17: Х | J17: ='РАСХОДЫ 2'!D17+'РАСХОДЫ 2'!F17 -> 6200
A18: Заработная плата работников органа местного самоуправления, избирательной комиссии муниципального образования, переведенных на новые системы оплаты труда 1 | B18: 040 | C18: Х | D18: 173 | E18: Х | G18: Х | I18: Х | J18: ='РАСХОДЫ 2'!D18+'РАСХОДЫ 2'!F18 -> 3257
A19: Итого расходов на заработную плату работников органа местного самоуправления, избирательной комиссии муниципального образования (сумма строк 010 + 020 + 030 + 040) | B19: 050 | C19: 676 | D19: =D7+D11+D17+D18 -> 500 | F19: =F7+F11+F17+F18 -> 0 | H19: =H7+H11+H17+H18 -> 0 | I19: ='РАСХОДЫ 2'!C19+'РАСХОДЫ 2'!E19 -> 26912 | J19: ='РАСХОДЫ 2'!D19+'РАСХОДЫ 2'!F19 -> 19648
A20: Прочие выплаты работникам органа местного самоуправления, избирательной комиссии муниципального образования, всего | B20: 060 | C20: 42 | D20: 20 | I20: ='РАСХОДЫ 2'!C20+'РАСХОДЫ 2'!E20 -> 34 | J20: ='РАСХОДЫ 2'!D20+'РАСХОДЫ 2'!F20 -> 33
A21: из них:
A22: компенсации работникам за использование личных легковых автомобилей для служебных целей | B22: 061 | C22: Х | E22: Х | G22: Х | I22: Х
A23: суточные при служебных командировках, всего (сумма строк 063 + 064) | B23: 062 | C23: Х | E23: Х | G23: Х | I23: Х
A24: в том числе:
A25: на территории Российской Федерации | B25: 063 | C25: Х | E25: Х | G25: Х | I25: Х
A26: на территории иностранных государств | B26: 064 | C26: Х | E26: Х | G26: Х | I26: Х
A27: Другие расходы на содержание органа местного самоуправления, избирательной комиссии муниципального образования, всего | B27: 070 | C27: 716 | D27: 516 | G27: 48 | H27: 24 | I27: ='РАСХОДЫ 2'!C27+'РАСХОДЫ 2'!E27 -> 19055 | J27: ='РАСХОДЫ 2'!D27+'РАСХОДЫ 2'!F27 -> 12901
A28: из них:
A29: на служебные командировки (оплата проезда и проживания), всего (сумма строк 072 + 073): | B29: 071 | C29: Х | E29: Х | G29: Х | I29: Х
A30: в том числе:
A31: на территории Российской Федерации | B31: 072 | C31: Х | E31: Х | G31: Х | I31: Х
A32: на территории иностранных государств | B32: 073 | C32: Х | E32: Х | G32: Х | I32: Х
A33: на содержание служебных легковых автомобилей | B33: 074 | C33: Х | E33: Х | G33: Х | I33: Х
A34: начисления на выплаты по оплате труда | B34: 075 | C34: Х | E34: Х | G34: Х | I34: Х
A35: ВСЕГО расходов на содержание органа местного самоуправления, избирательной комиссии муниципального образования (сумма строк 050 + 060 + 070) | B35: 080 | C35: =C19+C20+C27 -> 1434 | D35: =D19+D20+D27 -> 1036 | E35: =E19+E20+E27 -> 0 | F35: =F19+F20+F27 -> 0 | G35: =G19+G20+G27 -> 48 | H35: =H19+H20+H27 -> 24 | I35: ='РАСХОДЫ 2'!C35+'РАСХОДЫ 2'!E35 -> 46001 | J35: ='РАСХОДЫ 2'!D35+'РАСХОДЫ 2'!F35 -> 32582
A37: 1 Персонал по охране и обслуживанию зданий; водители и другие работники, обслуживающие служебные легковые автомобили органа местного самоуправления, избирательной комиссии муниципального образования.

Sheet ЧИСЛЕННОСТЬ 1
M1: Форма 14 МО, с.5
A3: 2. Сведения о должностях и численности работников органов местного самоуправления, избирательных комиссий муниципальных образований
A4: Наименование показателя | B4: Код строки | C4: в том числе по кодам разделов, подразделов расходов бюджетов по бюджетной классификации Российской Федерации 1
C5: 0103 0000000 000 00443 Центральный аппарат | F5: 0103 0000000 000 00446 Председатель представительного органа муниципального образования | I5: 0103 0000000 000 00447 Депутаты представительного органа муниципального образования | L5: 0104 0000000 000 00028 Функционирование Правительства Российской Федерации, высших исполнительных органов государственной власти субъектов Российской Федерации, местных администраций
C6: утверждено должностей в штатном расписании на конец отчетного периода | D6: фактически замещено должностей на конец отчетного периода | E6: среднесписочная численность за отчетный период | F6: утверждено должностей в штатном расписании на конец отчетного периода | G6: фактически замещено должностей на конец отчетного периода | H6: среднесписочная численность за отчетный период | I6: утверждено должностей в штатном расписании на конец отчетного периода | J6: фактически замещено должностей на конец отчетного периода | K6: среднесписочная численность за отчетный период | L6: утверждено должностей в штатном расписании на конец отчетного периода | M6: фактически замещено должностей на конец отчетного периода | N6: среднесписочная численность за отчетный период
A7: 1 | B7: 2 | C7: 3 | D7: 4 | E7: 5 | F7: 6 | G7: 7 | H7: 8 | I7: 9 | J7: 10 | K7: 11 | L7: 12 | M7: 13 | N7: 14
A8: Муниципальные должности | B8: 200 | L8: ='Численность 2'!C8+'Численность 2'!F8 -> 0 | M8: ='Численность 2'!D8+'Численность 2'!G8 -> 0 | N8: ='Численность 2'!E8+'Численность 2'!H8 -> 0
A9: Должности муниципальной службы, всего (сумма строк 220 + 230 + 240 + 250 + 260) | B9: 210 | C9: 1 | D9: 1 | E9: 1 | L9: ='Численность 2'!C9+'Численность 2'!F9 -> 65.75 | M9: ='Численность 2'!D9+'Численность 2'!G9 -> 65.75 | N9: ='Численность 2'!E9+'Численность 2'!H9 -> 64
A10: в том числе по группам должностей:
A11: высшие | B11: 220
A12: главные | B12: 230
A13: ведущие | B13: 240
A14: старшие | B14: 250
A15: младшие | B15: 260
A16: Должности, не являющиеся должностями муниципальной службы | B16: 270 | C16: 0.5 | D16: 0.5 | E16: 1 | L16: ='Численность 2'!C16+'Численность 2'!F16 -> 37.95 | M16: ='Численность 2'!D16+'Численность 2'!G16 -> 35.95 | N16: ='Численность 2'!E16+'Численность 2'!H16 -> 35
A17: Должности работников, переведенных на новые системы оплаты труда 2 | B17: 280 | C17: 2 | D17: 2 | E17: 1 | L17: ='Численность 2'!C17+'Численность 2'!F17 -> 30.72 | M17: ='Численность 2'!D17+'Численность 2'!G17 -> 30.72 | N17: ='Численность 2'!E17+'Численность 2'!H17 -> 33
A18: Всего должностей работников органа местного самоуправления, избирательной комиссии муниципального образования (сумма строк 200 + 210 + 270 + 280) | B18: 290 | C18: =C8+C9+C16+C17 -> 3.5 | D18: =D8+D9+D16+D17 -> 3.5 | E18: =E8+E9+E16+E17 -> 3 | F18: =F8+F9+F16+F17 -> 0 | G18: =G8+G9+G16+G17 -> 0 | H18: =H8+H9+H16+H17 -> 0 | I18: =I8+I9+I16+I17 -> 0 | J18: =J8+J9+J16+J17 -> 0 | K18: =K8+K9+K16+K17 -> 0 | L18: ='Численность 2'!C18+'Численность 2'!F18 -> 134.42 | M18: ='Численность 2'!D18+'Численность 2'!G18 -> 132.42 | N18: ='Численность 2'!E18+'Численность 2'!H18 -> 132
A20: 1 Коды разделов, подразделов расходов бюджетов по бюджетной классификации Российской Федерации должны соответствовать кодам, приведенным в разделе 1. Сведения о расходах на содержание органов местного самоуправления, избирательных комиссий муниципальных образований.
A21: 2 Персонал по охране и обслуживанию зданий; водители и другие работники, обслуживающие служебные легковые автомобили органа местного самоуправления, избирательной комиссии муниципального образования.

Sheet СПРАВКА 1
J1: Форма 14 МО, с. 6
A3: 3. Справка о количестве органов местного самоуправления, избирательных комиссий муниципальных образований и фактически начисленной заработной плате муниципальных служащих
A4: Наименование показателя | B4: Код строки | C4: в том числе по кодам разделов, подразделов расходов бюджетов по бюджетной классификации Российской Федерации 1
C5: 0103 0000000 000 00443 Центральный аппарат | E5: 0103 0000000 000 00446 Председатель представительного органа муниципального образования | G5: 0103 0000000 000 00447 Депутаты представительного органа муниципального образования | I5: 0104 0000000 000 00028 Функционирование Правительства Российской Федерации, высших исполнительных органов государственной власти субъектов Российской Федерации, местных администраций
A6: 1 | B6: 2 | C6: 3 | E6: 4 | G6: 5 | I6: 6
A7: Количество органов местного самоуправления, избирательных комиссий муниципальных образований | B7: 300 | C7: 1 | I7: ='СПРАВКА 2'!C7+'СПРАВКА 2'!E7 -> 19
A8: Заработная плата муниципальных служащих (стр. 020), всего (сумма строк 410 + 420 + 430 + 440 + 450) | B8: 400
A9: в том числе по группам должностей:
A10: высшие | B10: 410
A11: главные | B11: 420
A12: ведущие | B12: 430
A13: старшие | B13: 440
A14: младшие | B14: 450
A16: 4. Сведения о количестве служебных легковых автомобилей и расходах на их содержание
A17: Наименование показателя | B17: Код строки | C17: в том числе по кодам разделов, подразделов расходов бюджетов по бюджетной классификации Российской Федерации 1
C18: 0103 0000000 000 00443 Центральный аппарат | E18: 0103 0000000 000 00446 Председатель представительного органа муниципального образования | G18: 0103 0000000 000 00447 Депутаты представительного органа муниципального образования | I18: 0104 0000000 000 00028 Функционирование Правительства Российской Федерации, высших исполнительных органов государственной власти субъектов Российской Федерации, местных администраций
C19: на отчетную дату | D19: в среднем за год | E19: на отчетную дату | F19: в среднем за год | G19: на отчетную дату | H19: в среднем за год | I19: на отчетную дату | J19: в среднем за год
A20: 1 | B20: 2 | C20: 3 | D20: 4 | E20: 5 | F20: 6 | G20: 7 | H20: 8 | I20: 9 | J20: 10
A21: Служебные легковые автомобили, состоящие на балансе органа местного самоуправления, избирательной комиссии муниципального образования, шт. | B21: 460
A22: Служебные легковые автомобили, арендованные органом местного самоуправления, избирательной комиссией муниципального образования у других организаций, шт. | B22: 470
A23: Служебные легковые автомобили, предоставляемые муниципальными учреждениями органу местного самоуправления, избирательной комиссии муниципального образования на правах безвозмездного пользования, шт. | B23: 480
A24: СПРАВОЧНО: Расходы муниципальных учреждений на транспортное обслуживание органа местного самоуправления, избирательной комиссии муниципального образования, тыс. руб. | B24: 481
A25: Служебные легковые автомобили, предоставляемые подведомственными учреждениями органу местного самоуправления, избирательной комиссии муниципального образования, шт. | B25: 490
A26: СПРАВОЧНО: Расходы подведомственных учреждений на транспортное обслуживание органа местного самоуправления, избирательной комиссии муниципального образования, тыс. руб. | B26: 491
A28: 1 Коды разделов, подразделов расходов бюджетов по бюджетной классификации Российской Федерации должны соответствовать кодам, приведенным в разделе 1. Сведения о расходах на содержание органов местного самоуправления, избирательных комиссий муниципальных образований.

Sheet РАСХОДЫ 2
J1: Форма 14 МО, с.7
A2: 1. Сведения о расходах на содержание органов местного самоуправления, избирательных комиссий муниципальных образований
A3: Наименование показателя | B3: Код строки | C3: в том числе по кодам разделов, подразделов расходов бюджетов по бюджетной классификации Российской Федерации
C4: 0104 0000000 000 00452 Центральный аппарат | E4: 0104 0000000 000 00454 Глава местной администрации (исполнительно-распорядительного органа муниципального образования) | G4: 0106 0000000 000 00503 Обеспечение деятельности финансовых, налоговых и таможенных органов и органов финансового (финансово-бюджетного) надзора | I4: 0106 0000000 000 00518 Центральный аппарат
C5: утверждено (предусмотрено) на год | D5: фактически начислено за отчетный период | E5: утверждено (предусмотрено) на год | F5: фактически начислено за отчетный период | G5: утверждено (предусмотрено) на год | H5: фактически начислено за отчетный период | I5: утверждено (предусмотрено) на год | J5: фактически начислено за отчетный период
A6: 1 | B6: 2 | C6: 3 | D6: 4 | E6: 5 | F6: 6 | G6: 7 | H6: 8 | I6: 9 | J6: 10
A7: Заработная плата лиц, замещающих муниципальные должности, всего (сумма строк 011 + 012) | B7: 010 | C7: Х | E7: Х | G7: Х | H7: =J7+'РАСХОДЫ 4'!D7 -> 0 | I7: Х | J7: ='РАСХОДЫ 3'!D7 -> 0
A8: в том числе:
A9: денежное вознаграждение (денежное содержание) | B9: 011 | C9: Х | E9: Х | G9: Х | H9: =J9+'РАСХОДЫ 4'!D9 -> 0 | I9: Х
A10: другие выплаты, предусмотренные действующим законодательством | B10: 012 | C10: Х | E10: Х | G10: Х | H10: =J10+'РАСХОДЫ 4'!D10 -> 0 | I10: Х
A11: Заработная плата лиц, замещающих должности муниципальной службы, всего (сумма строк 021 + 022 + 024) | B11: 020 | C11: Х | D11: 9383 | E11: Х | F11: 808 | G11: Х | H11: =J11+'РАСХОДЫ 4'!D11 -> 2887 | I11: Х | J11: ='РАСХОДЫ 3'!D11 -> 2887
A12: в том числе:
A13: должностной оклад | B13: 021 | C13: Х | E13: Х | G13: Х | I13: Х
A14: дополнительные выплаты | B14: 022 | C14: Х | E14: Х | G14: Х | I14: Х
A15: из них: ежемесячное денежное поощрение | B15: 023 | C15: Х | E15: Х | G15: Х | I15: Х
A16: другие выплаты, предусмотренные действующим законодательством | B16: 024 | C16: Х | E16: Х | G16: Х | I16: Х
A17: Заработная плата лиц, замещающих должности, не являющиеся должностями муниципальной службы | B17: 030 | C17: Х | D17: 6200 | E17: Х | G17: Х | H17: =J17+'РАСХОДЫ 4'!D17 -> 202 | I17: Х | J17: ='РАСХОДЫ 3'!D17 -> 202
A18: Заработная плата работников органа местного самоуправления, избирательной комиссии муниципального образования, переведенных на новые системы оплаты труда 1 | B18: 040 | C18: Х | D18: 3257 | E18: Х | G18: Х | H18: =J18+'РАСХОДЫ 4'!D18 -> 438 | I18: Х | J18: ='РАСХОДЫ 3'!D18 -> 438
A19: Итого расходов на заработную плату работников органа местного самоуправления, избирательной комиссии муниципального образования (сумма строк 010 + 020 + 030 + 040) | B19: 050 | C19: 25752 | D19: =D7+D11+D17+D18 -> 18840 | E19: 1160 | F19: =F7+F11+F17+F18 -> 808 | G19: =I19+'РАСХОДЫ 4'!C19 -> 5290 | H19: =J19+'РАСХОДЫ 4'!D19 -> 3527 | I19: ='РАСХОДЫ 3'!C19 -> 5061 | J19: ='РАСХОДЫ 3'!D19 -> 3527
A20: Прочие выплаты работникам органа местного самоуправления, избирательной комиссии муниципального образования, всего | B20: 060 | C20: 34 | D20: 33 | G20: =I20+'РАСХОДЫ 4'!C20 -> 0 | H20: =J20+'РАСХОДЫ 4'!D20 -> 0 | I20: ='РАСХОДЫ 3'!C20 -> 0 | J20: ='РАСХОДЫ 3'!D20 -> 0
A21: из них:
A22: компенсации работникам за использование личных легковых автомобилей для служебных целей | B22: 061 | C22: Х | E22: Х | G22: Х | H22: =J22+'РАСХОДЫ 4'!D22 -> 0 | I22: Х
A23: суточные при служебных командировках, всего (сумма строк 063 + 064) | B23: 062 | C23: Х | D23: =D25+D26 -> 0 | E23: Х | F23: =F25+F26 -> 0 | G23: Х | H23: =J23+'РАСХОДЫ 4'!D23 -> 0 | I23: Х
A24: в том числе:
A25: на территории Российской Федерации | B25: 063 | C25: Х | E25: Х | G25: Х | H25: =J25+'РАСХОДЫ 4'!D25 -> 0 | I25: Х
A26: на территории иностранных государств | B26: 064 | C26: Х | E26: Х | G26: Х | H26: =J26+'РАСХОДЫ 4'!D26 -> 0 | I26: Х
A27: Другие расходы на содержание органа местного самоуправления, избирательной комиссии муниципального образования, всего | B27: 070 | C27: 18690 | D27: 12671 | E27: 365 | F27: 230 | G27: =I27+'РАСХОДЫ 4'!C27 -> 2345 | H27: =J27+'РАСХОДЫ 4'!D27 -> 1442 | I27: ='РАСХОДЫ 3'!C27 -> 2288 | J27: ='РАСХОДЫ 3'!D27 -> 1442
A28: из них:
A29: на служебные командировки (оплата проезда и проживания), всего (сумма строк 072 + 073): | B29: 071 | C29: Х | E29: Х | G29: Х | I29: Х
A30: в том числе:
A31: на территории Российской Федерации | B31: 072 | C31: Х | E31: Х | G31: Х | I31: Х
A32: на территории иностранных государств | B32: 073 | C32: Х | E32: Х | G32: Х | I32: Х
A33: на содержание служебных легковых автомобилей | B33: 074 | C33: Х | E33: Х | G33: Х | I33: Х
A34: начисления на выплаты по оплате труда | B34: 075 | C34: Х | E34: Х | G34: Х | I34: Х
A35: ВСЕГО расходов на содержание органа местного самоуправления, избирательной комиссии муниципального образования (сумма строк 050 + 060 + 070) | B35: 080 | C35: =C19+C20+C27 -> 44476 | D35: =D19+D20+D27 -> 31544 | E35: =E19+E20+E27 -> 1525 | F35: =F19+F20+F27 -> 1038 | G35: =I35+'РАСХОДЫ 4'!C35 -> 7635 | H35: =J35+'РАСХОДЫ 4'!D35 -> 4969 | I35: ='РАСХОДЫ 3'!C35 -> 7349 | J35: ='РАСХОДЫ 3'!D35 -> 4969
A37: 1 Персонал по охране и обслуживанию зданий; водители и другие работники, обслуживающие служебные легковые автомобили органа местного самоуправления, избирательной комиссии муниципального образования.

Sheet Численность 2
M1: Форма 14 МО, с. 8
A3: 2. Сведения о должностях и численности работников органов местного самоуправления, избирательных комиссий муниципальных образований
A4: Наименование показателя | B4: Код строки | C4: в том числе по кодам разделов, подразделов расходов бюджетов по бюджетной классификации Российской Федерации 1
C5: 0104 0000000 000 00452 Центральный аппарат | F5: 0104 0000000 000 00454 Глава местной администрации (исполнительно-распорядительного органа муниципального образования) | I5: 0106 0000000 000 00503 Обеспечение деятельности финансовых, налоговых и таможенных органов и органов финансового (финансово-бюджетного) надзора | L5: 0106 0000000 000 00518 Центральный аппарат
C6: утверждено должностей в штатном расписании на конец отчетного периода | D6: фактически замещено должностей на конец отчетного периода | E6: среднесписочная численность за отчетный период | F6: утверждено должностей в штатном расписании на конец отчетного периода | G6: фактически замещено должностей на конец отчетного периода | H6: среднесписочная численность за отчетный период | I6: утверждено должностей в штатном расписании на конец отчетного периода | J6: фактически замещено должностей на конец отчетного периода | K6: среднесписочная численность за отчетный период | L6: утверждено должностей в штатном расписании на конец отчетного периода | M6: фактически замещено должностей на конец отчетного периода | N6: среднесписочная численность за отчетный период
A7: 1 | B7: 2 | C7: 3 | D7: 4 | E7: 5 | F7: 6 | G7: 7 | H7: 8 | I7: 9 | J7: 10 | K7: 11 | L7: 12 | M7: 13 | N7: 14
A8: Муниципальные должности | B8: 200 | I8: =L8+'Численность 4'!C8 -> 0 | J8: =M8+'Численность 4'!D8 -> 0 | K8: =N8+'Численность 4'!E8 -> 0 | L8: ='Численность 3'!C8 -> 0 | M8: ='Численность 3'!D8 -> 0 | N8: ='Численность 3'!E8 -> 0
A9: Должности муниципальной службы, всего (сумма строк 220 + 230 + 240 + 250 + 260) | B9: 210 | C9: 63.75 | D9: 63.75 | E9: 62 | F9: 2 | G9: 2 | H9: 2 | I9: =L9+'Численность 4'!C9 -> 15 | J9: =M9+'Численность 4'!D9 -> 14 | K9: =N9+'Численность 4'!E9 -> 13 | L9: ='Численность 3'!C9 -> 14 | M9: ='Численность 3'!D9 -> 14 | N9: ='Численность 3'!E9 -> 13
A10: в том числе по группам должностей: | I10: =L10+'Численность 4'!C10 -> 0 | J10: =M10+'Численность 4'!D10 -> 0 | K10: =N10+'Численность 4'!E10 -> 0 | L10: ='Численность 3'!C10 -> 0 | M10: ='Численность 3'!D10 -> 0 | N10: ='Численность 3'!E10 -> 0
A11: высшие | B11: 220 | I11: =L11+'Численность 4'!C11 -> 0 | J11: =M11+'Численность 4'!D11 -> 0 | K11: =N11+'Численность 4'!E11 -> 0 | L11: ='Численность 3'!C11 -> 0 | M11: ='Численность 3'!D11 -> 0 | N11: ='Численность 3'!E11 -> 0
A12: главные | B12: 230 | I12: =L12+'Численность 4'!C12 -> 0 | J12: =M12+'Численность 4'!D12 -> 0 | K12: =N12+'Численность 4'!E12 -> 0 | L12: ='Численность 3'!C12 -> 0 | M12: ='Численность 3'!D12 -> 0 | N12: ='Численность 3'!E12 -> 0
A13: ведущие | B13: 240 | I13: =L13+'Численность 4'!C13 -> 0 | J13: =M13+'Численность 4'!D13 -> 0 | K13: =N13+'Численность 4'!E13 -> 0 | L13: ='Численность 3'!C13 -> 0 | M13: ='Численность 3'!D13 -> 0 | N13: ='Численность 3'!E13 -> 0
A14: старшие | B14: 250 | I14: =L14+'Численность 4'!C14 -> 0 | J14: =M14+'Численность 4'!D14 -> 0 | K14: =N14+'Численность 4'!E14 -> 0 | L14: ='Численность 3'!C14 -> 0 | M14: ='Численность 3'!D14 -> 0 | N14: ='Численность 3'!E14 -> 0
A15: младшие | B15: 260 | I15: =L15+'Численность 4'!C15 -> 0 | J15: =M15+'Численность 4'!D15 -> 0 | K15: =N15+'Численность 4'!E15 -> 0 | L15: ='Численность 3'!C15 -> 0 | M15: ='Численность 3'!D15 -> 0 | N15: ='Численность 3'!E15 -> 0
A16: Должности, не являющиеся должностями муниципальной службы | B16: 270 | C16: 37.95 | D16: 35.95 | E16: 35 | I16: =L16+'Численность 4'!C16 -> 1.25 | J16: =M16+'Численность 4'!D16 -> 1.25 | K16: =N16+'Численность 4'!E16 -> 2 | L16: ='Численность 3'!C16 -> 1.25 | M16: ='Численность 3'!D16 -> 1.25 | N16: ='Численность 3'!E16 -> 2
A17: Должности работников, переведенных на новые системы оплаты труда 2 | B17: 280 | C17: 30.72 | D17: 30.72 | E17: 33 | I17: =L17+'Численность 4'!C17 -> 3 | J17: =M17+'Численность 4'!D17 -> 3 | K17: =N17+'Численность 4'!E17 -> 3 | L17: ='Численность 3'!C17 -> 3 | M17: ='Численность 3'!D17 -> 3 | N17: ='Численность 3'!E17 -> 3
A18: Всего должностей работников органа местного самоуправления, избирательной комиссии муниципального образования (сумма строк 200 + 210 + 270 + 280) | B18: 290 | C18: =C8+C9+C16+C17 -> 132.42 | D18: =D8+D9+D16+D17 -> 130.42 | E18: =E8+E9+E16+E17 -> 130 | F18: =F8+F9+F16+F17 -> 2 | G18: =G8+G9+G16+G17 -> 2 | H18: =H8+H9+H16+H17 -> 2 | I18: =L18+'Численность 4'!C18 -> 19.25 | J18: =M18+'Численность 4'!D18 -> 18.25 | K18: =N18+'Численность 4'!E18 -> 18 | L18: ='Численность 3'!C18 -> 18.25 | M18: ='Численность 3'!D18 -> 18.25 | N18: ='Численность 3'!E18 -> 18
A20: 1 Коды разделов, подразделов расходов бюджетов по бюджетной классификации Российской Федерации должны соответствовать кодам, приведенным в разделе 1. Сведения о расходах на содержание органов местного самоуправления, избирательных комиссий муниципальных образований.
A21: 2 Персонал по охране и обслуживанию зданий; водители и другие работники, обслуживающие служебные легковые автомобили органа местного самоуправления, избирательной комиссии муниципального образования.

Sheet СПРАВКА 2
J1: Форма 14 МО, с.9
A3: 3. Справка о количестве органов местного самоуправления, избирательных комиссий муниципальных образований и фактически начисленной заработной плате муниципальных служащих
A4: Наименование показателя | B4: Код строки | C4: в том числе по кодам разделов, подразделов расходов бюджетов по бюджетной классификации Российской Федерации 1
C5: 0104 0000000 000 00452 Центральный аппарат | E5: 0104 0000000 000 00454 Глава местной администрации (исполнительно-распорядительного органа муниципального образования) | G5: 0106 0000000 000 00503 Обеспечение деятельности финансовых, налоговых и таможенных органов и органов финансового (финансово-бюджетного) надзора | I5: 0106 0000000 000 00518 Центральный аппарат
A6: 1 | B6: 2 | C6: 3 | E6: 4 | G6: 5 | I6: 6
A7: Количество органов местного самоуправления, избирательных комиссий муниципальных образований | B7: 300 | C7: 19 | G7: =I7+'СПРАВКА 4'!C7 -> 2 | I7: ='СПРАВКА 3 '!C7 -> 2
A8: Заработная плата муниципальных служащих (стр. 020), всего (сумма строк 410 + 420 + 430 + 440 + 450) | B8: 400
A9: в том числе по группам должностей:
A10: высшие | B10: 410
A11: главные | B11: 420
A12: ведущие | B12: 430
A13: старшие | B13: 440
A14: младшие | B14: 450
A16: 4. Сведения о количестве служебных легковых автомобилей и расходах на их содержание
A17: Наименование показателя | B17: Код строки | C17: в том числе по кодам разделов, подразделов расходов бюджетов по бюджетной классификации Российской Федерации 1
C18: 0104 0000000 000 00452 Центральный аппарат | E18: 0104 0000000 000 00454 Глава местной администрации (исполнительно-распорядительного органа муниципального образования) | G18: 0106 0000000 000 00503 Обеспечение деятельности финансовых, налоговых и таможенных органов и органов финансового (финансово-бюджетного) надзора | I18: 0106 0000000 000 00518 Центральный аппарат
C19: на отчетную дату | D19: в среднем за год | E19: на отчетную дату | F19: в среднем за год | G19: на отчетную дату | H19: в среднем за год | I19: на отчетную дату | J19: в среднем за год
A20: 1 | B20: 2 | C20: 3 | D20: 4 | E20: 5 | F20: 6 | G20: 7 | H20: 8 | I20: 9 | J20: 10
A21: Служебные легковые автомобили, состоящие на балансе органа местного самоуправления, избирательной комиссии муниципального образования, шт. | B21: 460
A22: Служебные легковые автомобили, арендованные органом местного самоуправления, избирательной комиссией муниципального образования у других организаций, шт. | B22: 470
A23: Служебные легковые автомобили, предоставляемые муниципальными учреждениями органу местного самоуправления, избирательной комиссии муниципального образования на правах безвозмездного пользования, шт. | B23: 480
A24: СПРАВОЧНО: Расходы муниципальных учреждений на транспортное обслуживание органа местного самоуправления, избирательной комиссии муниципального образования, тыс. руб. | B24: 481
A25: Служебные легковые автомобили, предоставляемые подведомственными учреждениями органу местного самоуправления, избирательной комиссии муниципального образования, шт. | B25: 490
A26: СПРАВОЧНО: Расходы подведомственных учреждений на транспортное обслуживание органа местного самоуправления, избирательной комиссии муниципального образования, тыс. руб. | B26: 491
A28: 1 Коды разделов, подразделов расходов бюджетов по бюджетной классификации Российской Федерации должны соответствовать кодам, приведенным в разделе 1. Сведения о расходах на содержание органов местного самоуправления, избирательных комиссий муниципальных образований.

Sheet РАСХОДЫ 3
H1: Форма 14 МО, с.10
A2: 1. Сведения о расходах на содержание органов местного самоуправления, избирательных комиссий муниципальных образований
A3: Наименование показателя | B3: Код строки | C3: в том числе по кодам разделов, подразделов расходов бюджетов по бюджетной классификации Российской Федерации
C4: 0106 0000000 000 00518 Центральный аппарат, всего | E4: Финансовый отдел | G4: КСП
C5: утверждено (предусмотрено) на год | D5: фактически начислено за отчетный период | E5: утверждено (предусмотрено) на год | F5: фактически начислено за отчетный период | G5: утверждено (предусмотрено) на год | H5: фактически начислено за отчетный период
A6: 1 | B6: 2 | C6: 3 | D6: 4 | E6: 5 | F6: 6 | G6: 7 | H6: 8
A7: Заработная плата лиц, замещающих муниципальные должности, всего (сумма строк 011 + 012) | B7: 010 | C7: Х | D7: =F7+H7 -> 0 | E7: Х | G7: Х
A8: в том числе: | D8: =F8+H8 -> 0
A9: денежное вознаграждение (денежное содержание) | B9: 011 | C9: Х | E9: Х | G9: Х
A10: другие выплаты, предусмотренные действующим законодательством | B10: 012 | C10: Х | E10: Х | G10: Х
A11: Заработная плата лиц, замещающих должности муниципальной службы, всего (сумма строк 021 + 022 + 024) | B11: 020 | C11: Х | D11: =F11+H11 -> 2887 | E11: Х | F11: 2887 | G11: Х
A12: в том числе: | D12: =F12+H12 -> 0
A13: должностной оклад | B13: 021 | C13: Х | E13: Х | G13: Х
A14: дополнительные выплаты | B14: 022 | C14: Х | E14: Х | G14: Х
A15: из них: ежемесячное денежное поощрение | B15: 023 | C15: Х | E15: Х | G15: Х
A16: другие выплаты, предусмотренные действующим законодательством | B16: 024 | C16: Х | E16: Х | G16: Х
A17: Заработная плата лиц, замещающих должности, не являющиеся должностями муниципальной службы | B17: 030 | C17: Х | D17: =F17+H17 -> 202 | E17: Х | F17: 124 | G17: Х | H17: 78
A18: Заработная плата работников органа местного самоуправления, избирательной комиссии муниципального образования, переведенных на новые системы оплаты труда 1 | B18: 040 | C18: Х | D18: =F18+H18 -> 438 | E18: Х | F18: 221 | G18: Х | H18: 217
A19: Итого расходов на заработную плату работников органа местного самоуправления, избирательной комиссии муниципального образования (сумма строк 010 + 020 + 030 + 040) | B19: 050 | C19: =E19+G19 -> 5061 | D19: =F19+H19 -> 3527 | E19: 4499 | F19: =F7+F11+F17+F18 -> 3232 | G19: 562 | H19: =H7+H11+H17+H18 -> 295
A20: Прочие выплаты работникам органа местного самоуправления, избирательной комиссии муниципального образования, всего | B20: 060 | C20: =E20+G20 -> 0 | D20: =F20+H20 -> 0
A21: из них: | D21: =F21+H21 -> 0
A22: компенсации работникам за использование личных легковых автомобилей для служебных целей | B22: 061 | C22: Х | E22: Х | G22: Х
A23: суточные при служебных командировках, всего (сумма строк 063 + 064) | B23: 062 | C23: Х | E23: Х | G23: Х
A24: в том числе:
A25: на территории Российской Федерации | B25: 063 | C25: Х | E25: Х | G25: Х
A26: на территории иностранных государств | B26: 064 | C26: Х | E26: Х | G26: Х
A27: Другие расходы на содержание органа местного самоуправления, избирательной комиссии муниципального образования, всего | B27: 070 | C27: =E27+G27 -> 2288 | D27: =F27+H27 -> 1442 | E27: 2062 | F27: 1346 | G27: 226 | H27: 96
A28: из них: | D28: =F28+H28 -> 0
A29: на служебные командировки (оплата проезда и проживания), всего (сумма строк 072 + 073): | B29: 071 | C29: Х | E29: Х | G29: Х
A30: в том числе:
A31: на территории Российской Федерации | B31: 072 | C31: Х | E31: Х | G31: Х
A32: на территории иностранных государств | B32: 073 | C32: Х | E32: Х | G32: Х
A33: на содержание служебных легковых автомобилей | B33: 074 | C33: Х | E33: Х | G33: Х
A34: начисления на выплаты по оплате труда | B34: 075 | C34: Х | E34: Х | G34: Х
A35: ВСЕГО расходов на содержание органа местного самоуправления, избирательной комиссии муниципального образования (сумма строк 050 + 060 + 070) | B35: 080 | C35: =E35+G35 -> 7349 | D35: =F35+H35 -> 4969 | E35: =E19+E20+E27 -> 6561 | F35: =F19+F20+F27 -> 4578 | G35: =G19+G20+G27 -> 788 | H35: =H19+H20+H27 -> 391
A37: 1 Персонал по охране и обслуживанию зданий; водители и другие работники, обслуживающие служебные легковые автомобили органа местного самоуправления, избирательной комиссии муниципального образования.

Sheet Численность 3
I1: Форма 14 МО, с. 11
A3: 2. Сведения о должностях и численности работников органов местного самоуправления, избирательных комиссий муниципальных образований
A4: Наименование показателя | B4: Код строки | C4: в том числе по кодам разделов, подразделов расходов бюджетов по бюджетной классификации Российской Федерации 1
C5: 0106 0000000 000 00518 Центральный аппарат, всего | F5: Финансовый отдел | I5: КСП
C6: утверждено должностей в штатном расписании на конец отчетного периода | D6: фактически замещено должностей на конец отчетного периода | E6: среднесписочная численность за отчетный период | F6: утверждено должностей в штатном расписании на конец отчетного периода | G6: фактически замещено должностей на конец отчетного периода | H6: среднесписочная численность за отчетный период | I6: утверждено должностей в штатном расписании на конец отчетного периода | J6: фактически замещено должностей на конец отчетного периода | K6: среднесписочная численность за отчетный период
A7: 1 | B7: 2 | C7: 3 | D7: 4 | E7: 5 | F7: 6 | G7: 7 | H7: 8 | I7: 9 | J7: 10 | K7: 11
A8: Муниципальные должности | B8: 200 | C8: =F8+I8 -> 0 | D8: =G8+J8 -> 0 | E8: =H8+K8 -> 0
A9: Должности муниципальной службы, всего (сумма строк 220 + 230 + 240 + 250 + 260) | B9: 210 | C9: =F9+I9 -> 14 | D9: =G9+J9 -> 14 | E9: =H9+K9 -> 13 | F9: 14 | G9: 14 | H9: 13 | I9: =I11+I12+I13+I14+I15 -> 0 | J9: =J11+J12+J13+J14+J15 -> 0 | K9: =K11+K12+K13+K14+K15 -> 0
A10: в том числе по группам должностей: | C10: =F10+I10 -> 0 | D10: =G10+J10 -> 0 | E10: =H10+K10 -> 0
A11: высшие | B11: 220 | C11: =F11+I11 -> 0 | D11: =G11+J11 -> 0 | E11: =H11+K11 -> 0
A12: главные | B12: 230 | C12: =F12+I12 -> 0 | D12: =G12+J12 -> 0 | E12: =H12+K12 -> 0
A13: ведущие | B13: 240 | C13: =F13+I13 -> 0 | D13: =G13+J13 -> 0 | E13: =H13+K13 -> 0
A14: старшие | B14: 250 | C14: =F14+I14 -> 0 | D14: =G14+J14 -> 0 | E14: =H14+K14 -> 0
A15: младшие | B15: 260 | C15: =F15+I15 -> 0 | D15: =G15+J15 -> 0 | E15: =H15+K15 -> 0
A16: Должности, не являющиеся должностями муниципальной службы | B16: 270 | C16: =F16+I16 -> 1.25 | D16: =G16+J16 -> 1.25 | E16: =H16+K16 -> 2 | F16: 1 | G16: 1 | H16: 1 | I16: 0.25 | J16: 0.25 | K16: 1
A17: Должности работников, переведенных на новые системы оплаты труда 2 | B17: 280 | C17: =F17+I17 -> 3 | D17: =G17+J17 -> 3 | E17: =H17+K17 -> 3 | F17: 2 | G17: 2 | H17: 2 | I17: 1 | J17: 1 | K17: 1
A18: Всего должностей работников органа местного самоуправления, избирательной комиссии муниципального образования (сумма строк 200 + 210 + 270 + 280) | B18: 290 | C18: =F18+I18 -> 18.25 | D18: =G18+J18 -> 18.25 | E18: =H18+K18 -> 18 | F18: =F8+F9+F16+F17 -> 17 | G18: =G8+G9+G16+G17 -> 17 | H18: =H8+H9+H16+H17 -> 16 | I18: =I8+I9+I16+I17 -> 1.25 | J18: =J8+J9+J16+J17 -> 1.25 | K18: =K8+K9+K16+K17 -> 2
A20: 1 Коды разделов, подразделов расходов бюджетов по бюджетной классификации Российской Федерации должны соответствовать кодам, приведенным в разделе 1. Сведения о расходах на содержание органов местного самоуправления, избирательных комиссий муниципальных образований.
A21: 2 Персонал по охране и обслуживанию зданий; водители и другие работники, обслуживающие служебные легковые автомобили органа местного самоуправления, избирательной комиссии муниципального образования.

Sheet СПРАВКА 3 
H1: Форма 14 МО, с.12
A3: 3. Справка о количестве органов местного самоуправления, избирательных комиссий муниципальных образований и фактически начисленной заработной плате муниципальных служащих
A4: Наименование показателя | B4: Код строки | C4: в том числе по кодам разделов, подразделов расходов бюджетов по бюджетной классификации Российской Федерации 1
C5: 0106 0000000 000 00518 Центральный аппарат, всего | E5: Финансовый отдел | G5: КСП
A6: 1 | B6: 2 | C6: 3 | E6: 4 | G6: 5
A7: Количество органов местного самоуправления, избирательных комиссий муниципальных образований | B7: 300 | C7: =E7+G7 -> 2 | E7: 1 | G7: 1
A8: Заработная плата муниципальных служащих (стр. 020), всего (сумма строк 410 + 420 + 430 + 440 + 450) | B8: 400 | C8: =E8+G8 -> 0 | E8: =E10+E11+E12+E13+E14 -> 0 | G8: =G10+G11+G12+G13+G14 -> 0
A9: в том числе по группам должностей:
A10: высшие | B10: 410 | C10: =E10+G10 -> 0
A11: главные | B11: 420 | C11: =E11+G11 -> 0
A12: ведущие | B12: 430 | C12: =E12+G12 -> 0
A13: старшие | B13: 440 | C13: =E13+G13 -> 0
A14: младшие | B14: 450 | C14: =E14+G14 -> 0
A16: 4. Сведения о количестве служебных легковых автомобилей и расходах на их содержание
A17: Наименование показателя | B17: Код строки | C17: в том числе по кодам разделов, подразделов расходов бюджетов по бюджетной классификации Российской Федерации 1
C18: 0106 0000000 000 00518 Центральный аппарат, всего | E18: Финансовый отдел | G18: КСП
C19: на отчетную дату | D19: в среднем за год | E19: на отчетную дату | F19: в среднем за год | G19: на отчетную дату | H19: в среднем за год
A20: 1 | B20: 2 | C20: 3 | D20: 4 | E20: 5 | F20: 6 | G20: 7 | H20: 8
A21: Служебные легковые автомобили, состоящие на балансе органа местного самоуправления, избирательной комиссии муниципального образования, шт. | B21: 460 | C21: =E21+G21 -> 0 | D21: =F21+H21 -> 0
A22: Служебные легковые автомобили, арендованные органом местного самоуправления, избирательной комиссией муниципального образования у других организаций, шт. | B22: 470 | C22: =E22+G22 -> 0 | D22: =F22+H22 -> 0
A23: Служебные легковые автомобили, предоставляемые муниципальными учреждениями органу местного самоуправления, избирательной комиссии муниципального образования на правах безвозмездного пользования, шт. | B23: 480 | C23: =E23+G23 -> 0 | D23: =F23+H23 -> 0
A24: СПРАВОЧНО: Расходы муниципальных учреждений на транспортное обслуживание органа местного самоуправления, избирательной комиссии муниципального образования, тыс. руб. | B24: 481 | C24: =E24+G24 -> 0 | D24: =F24+H24 -> 0
A25: Служебные легковые автомобили, предоставляемые подведомственными учреждениями органу местного самоуправления, избирательной комиссии муниципального образования, шт. | B25: 490 | C25: =E25+G25 -> 0 | D25: =F25+H25 -> 0
A26: СПРАВОЧНО: Расходы подведомственных учреждений на транспортное обслуживание органа местного самоуправления, избирательной комиссии муниципального образования, тыс. руб. | B26: 491 | C26: =E26+G26 -> 0 | D26: =F26+H26 -> 0
A28: 1 Коды разделов, подразделов расходов бюджетов по бюджетной классификации Российской Федерации должны соответствовать кодам, приведенным в разделе 1. Сведения о расходах на содержание органов местного самоуправления, избирательных комиссий муниципальных образований.

Sheet РАСХОДЫ 4
J1: Форма 14 МО, с.13
A2: 1. Сведения о расходах на содержание органов местного самоуправления, избирательных комиссий муниципальных образований
A3: Наименование показателя | B3: Код строки | C3: в том числе по кодам разделов, подразделов расходов бюджетов по бюджетной классификации Российской Федерации
C4: 0106 0000000 000 00521 Руководитель контрольно-счетной палаты муниципального образования и его заместители | E4: 0113 0000000 000 00782 Центральный аппарат | G4: 0203 0000000 000 00768 Осуществление первичного воинского учета на территориях, где отсутствуют военные комиссариаты | I4: 0412 0000000 000 00665 Центральный аппарат
C5: утверждено (предусмотрено) на год | D5: фактически начислено за отчетный период | E5: утверждено (предусмотрено) на год | F5: фактически начислено за отчетный период | G5: утверждено (предусмотрено) на год | H5: фактически начислено за отчетный период | I5: утверждено (предусмотрено) на год | J5: фактически начислено за отчетный период
A6: 1 | B6: 2 | C6: 3 | D6: 4 | E6: 5 | F6: 6 | G6: 7 | H6: 8 | I6: 9 | J6: 10
A7: Заработная плата лиц, замещающих муниципальные должности, всего (сумма строк 011 + 012) | B7: 010 | C7: Х | E7: Х | G7: Х | I7: Х
A8: в том числе:
A9: денежное вознаграждение (денежное содержание) | B9: 011 | C9: Х | E9: Х | G9: Х | I9: Х
A10: другие выплаты, предусмотренные действующим законодательством | B10: 012 | C10: Х | E10: Х | G10: Х | I10: Х
A11: Заработная плата лиц, замещающих должности муниципальной службы, всего (сумма строк 021 + 022 + 024) | B11: 020 | C11: Х | E11: Х | G11: Х | I11: Х | J11: 119
A12: в том числе:
A13: должностной оклад | B13: 021 | C13: Х | E13: Х | G13: Х | I13: Х
A14: дополнительные выплаты | B14: 022 | C14: Х | E14: Х | G14: Х | I14: Х
A15: из них: ежемесячное денежное поощрение | B15: 023 | C15: Х | E15: Х | G15: Х | I15: Х
A16: другие выплаты, предусмотренные действующим законодательством | B16: 024 | C16: Х | E16: Х | G16: Х | I16: Х
A17: Заработная плата лиц, замещающих должности, не являющиеся должностями муниципальной службы | B17: 030 | C17: Х | E17: Х | F17: 136 | G17: Х | H17: 574 | I17: Х
A18: Заработная плата работников органа местного самоуправления, избирательной комиссии муниципального образования, переведенных на новые системы оплаты труда 1 | B18: 040 | C18: Х | E18: Х | G18: Х | I18: Х
A19: Итого расходов на заработную плату работников органа местного самоуправления, избирательной комиссии муниципального образования (сумма строк 010 + 020 + 030 + 040) | B19: 050 | C19: 229 | D19: =D7+D11+D17+D18 -> 0 | E19: 189 | F19: =F7+F11+F17+F18 -> 136 | G19: 839 | H19: =H7+H11+H17+H18 -> 574 | I19: 151 | J19: =J7+J11+J17+J18 -> 119
A20: Прочие выплаты работникам органа местного самоуправления, избирательной комиссии муниципального образования, всего | B20: 060
A21: из них:
A22: компенсации работникам за использование личных легковых автомобилей для служебных целей | B22: 061 | C22: Х | E22: Х | G22: Х | I22: Х
A23: суточные при служебных командировках, всего (сумма строк 063 + 064) | B23: 062 | C23: Х | E23: Х | G23: Х | I23: Х | J23: =J25+J26 -> 0
A24: в том числе:
A25: на территории Российской Федерации | B25: 063 | C25: Х | E25: Х | G25: Х | I25: Х
A26: на территории иностранных государств | B26: 064 | C26: Х | E26: Х | G26: Х | I26: Х
A27: Другие расходы на содержание органа местного самоуправления, избирательной комиссии муниципального образования, всего | B27: 070 | C27: 57 | E27: 128 | F27: 65 | G27: 329 | H27: 224 | I27: 91 | J27: 58
A28: из них:
A29: на служебные командировки (оплата проезда и проживания), всего (сумма строк 072 + 073): | B29: 071 | C29: Х | E29: Х | G29: Х | I29: Х
A30: в том числе:
A31: на территории Российской Федерации | B31: 072 | C31: Х | E31: Х | G31: Х | I31: Х
A32: на территории иностранных государств | B32: 073 | C32: Х | E32: Х | G32: Х | I32: Х
A33: на содержание служебных легковых автомобилей | B33: 074 | C33: Х | E33: Х | G33: Х | I33: Х
A34: начисления на выплаты по оплате труда | B34: 075 | C34: Х | E34: Х | G34: Х | I34: Х
